BEGIN:VCALENDAR
PRODID;X-RICAL-TZSOURCE=TZINFO:-//com.denhaven2/NONSGML ri_cal gem//EN
CALSCALE:GREGORIAN
VERSION:2.0
BEGIN:VEVENT
DTEND;VALUE=DATE-TIME:20260516T124000Z
DTSTART;VALUE=DATE-TIME:20260516T121000Z
DTSTAMP;VALUE=DATE-TIME:20260420T131918Z
UID:70f5e034-775a-4e5d-92a5-62780a340709@talks.stuts.de
DESCRIPTION:Die Linearschrift A – seit ihrer Entdeckung vor über hundert 
 Jahren versucht die Menschheit nun schon\, diese fast 4000 Jahre alte Sc
 hrift der im Nebel der Geschichte verblassten sogenannten minoischen Kul
 tur lesen zu können\, doch bisher ohne große Erfolge.\n\nAndere\, mit Li
 near A verwandte Systeme\, konnten allerdings entziffert werden: Linear 
 B und das kyprische Syllabar\, die beide unterschiedliche Varianten des 
 Griechischen verschriftlichen. Wieder andere dieser als ägäisch bezeichn
 eten Schriftsysteme bleiben ebenfalls noch ohne plausible Entzifferung\,
  wie etwa das rätselhafte Kypro-Minoische.\n\nDer Vortrag möchte nun\, a
 usgehend von einer kurzen Einführung in die Thematik\, die Frage aufwerf
 en\, ob ein Vergleich der bereits entzifferten Schriftsysteme zu einer p
 lausiblen Lesung für Linear A führen kann\; hierbei soll sich insbesonde
 re auf die l-\, r-\, d- und t-Reihen konzentriert werden\, die viele Fra
 gen aufwerfen. Eine vorsichtige Neuinterpretation der Linear A-Schriftze
 ichen\, die bisher als exakte Entsprechungen ihrer scheinbaren Linear B-
 Äquivalente mit deren Lautwerten gelesen werden\, wird am Ende präsentie
 rt.
URL:programm.stuts79.de/events/1495.html
SUMMARY:Linear A entziffern!
ORGANIZER:stuts79
LOCATION:stuts79 - DOR 24 1.501
END:VEVENT
END:VCALENDAR
