BEGIN:VCALENDAR
PRODID;X-RICAL-TZSOURCE=TZINFO:-//com.denhaven2/NONSGML ri_cal gem//EN
CALSCALE:GREGORIAN
VERSION:2.0
BEGIN:VEVENT
DTEND;VALUE=DATE-TIME:20260514T161500Z
DTSTART;VALUE=DATE-TIME:20260514T151500Z
DTSTAMP;VALUE=DATE-TIME:20260420T124425Z
UID:329625e4-a359-4f1e-9658-eb24e014e1bb@talks.stuts.de
URL:programm.stuts79.de/events/1502.html
SUMMARY:Conjugation class mixing in the diachrony of German
ORGANIZER:stuts79
LOCATION:stuts79 - HDH Halle 199 (4)
END:VEVENT
END:VCALENDAR
