BEGIN:VCALENDAR
PRODID;X-RICAL-TZSOURCE=TZINFO:-//com.denhaven2/NONSGML ri_cal gem//EN
CALSCALE:GREGORIAN
VERSION:2.0
BEGIN:VEVENT
DTEND;VALUE=DATE-TIME:20260515T160000Z
DTSTART;VALUE=DATE-TIME:20260515T153000Z
DTSTAMP;VALUE=DATE-TIME:20260420T130508Z
UID:a9c3d426-4f58-4344-911a-9695e87ebdb6@talks.stuts.de
URL:programm.stuts79.de/events/1505.html
SUMMARY:"Climate Change is God's Punishment for the Sins of Humanity"
ORGANIZER:stuts79
LOCATION:stuts79 - DOR 24 1.501
END:VEVENT
END:VCALENDAR
