BEGIN:VCALENDAR
PRODID;X-RICAL-TZSOURCE=TZINFO:-//com.denhaven2/NONSGML ri_cal gem//EN
CALSCALE:GREGORIAN
VERSION:2.0
BEGIN:VEVENT
DTEND;VALUE=DATE-TIME:20260514T151500Z
DTSTART;VALUE=DATE-TIME:20260514T144500Z
DTSTAMP;VALUE=DATE-TIME:20260420T124747Z
UID:6040de2b-a622-4cfd-a855-0bf9b731f5f3@talks.stuts.de
URL:programm.stuts79.de/events/1507.html
SUMMARY:Why do we find it accurate?
ORGANIZER:stuts79
LOCATION:stuts79 - HDH Raum 2 OG
END:VEVENT
END:VCALENDAR
