BEGIN:VCALENDAR
PRODID;X-RICAL-TZSOURCE=TZINFO:-//com.denhaven2/NONSGML ri_cal gem//EN
CALSCALE:GREGORIAN
VERSION:2.0
BEGIN:VEVENT
DTEND;VALUE=DATE-TIME:20260515T114000Z
DTSTART;VALUE=DATE-TIME:20260515T111000Z
DTSTAMP;VALUE=DATE-TIME:20260420T125351Z
UID:080b621f-f6fb-411c-9743-0b1f7b75b076@talks.stuts.de
DESCRIPTION:This talk investigates the multifunctionality of the Turkish 
 derivational suffix -lIK\, proposing a three-way functional classificati
 on that reduces previous seven-category analyses to three core derivatio
 nal functions. 
URL:programm.stuts79.de/events/1513.html
SUMMARY:On the Multifunctionality of the Turkish -lIK
ORGANIZER:stuts79
LOCATION:stuts79 - DOR 24 1.101
END:VEVENT
END:VCALENDAR
