BEGIN:VCALENDAR
PRODID;X-RICAL-TZSOURCE=TZINFO:-//com.denhaven2/NONSGML ri_cal gem//EN
CALSCALE:GREGORIAN
VERSION:2.0
BEGIN:VEVENT
DTEND;VALUE=DATE-TIME:20260514T151500Z
DTSTART;VALUE=DATE-TIME:20260514T144500Z
DTSTAMP;VALUE=DATE-TIME:20260420T124635Z
UID:a81b1272-4a9d-4eea-b829-193bb171177e@talks.stuts.de
DESCRIPTION:Presentation of the methodology and results of my Bachelor's 
 thesis.
URL:programm.stuts79.de/events/1514.html
SUMMARY:El Arte del aplicativo
ORGANIZER:stuts79
LOCATION:stuts79 - HDH Raum 1 OG
END:VEVENT
END:VCALENDAR
