BEGIN:VCALENDAR
PRODID;X-RICAL-TZSOURCE=TZINFO:-//com.denhaven2/NONSGML ri_cal gem//EN
CALSCALE:GREGORIAN
VERSION:2.0
BEGIN:VEVENT
DTEND;VALUE=DATE-TIME:20260514T120000Z
DTSTART;VALUE=DATE-TIME:20260514T110000Z
DTSTAMP;VALUE=DATE-TIME:20260420T122232Z
UID:e7575787-e349-4c55-b3c0-8c7c62c69038@talks.stuts.de
DESCRIPTION:Prof. Dr. Jürg Fleischer
URL:programm.stuts79.de/events/1541.html
SUMMARY:Berlinisch: Geschichte und Grammatik
ORGANIZER:stuts79
LOCATION:stuts79 - HDH Halle 199 
END:VEVENT
END:VCALENDAR
