BEGIN:VCALENDAR
PRODID;X-RICAL-TZSOURCE=TZINFO:-//com.denhaven2/NONSGML ri_cal gem//EN
CALSCALE:GREGORIAN
VERSION:2.0
BEGIN:VEVENT
DTEND;VALUE=DATE-TIME:20260515T110000Z
DTSTART;VALUE=DATE-TIME:20260515T100000Z
DTSTAMP;VALUE=DATE-TIME:20260420T123908Z
UID:ed74dab7-d22b-4fc2-8c9a-1327fd71bc1f@talks.stuts.de
DESCRIPTION:Prof. Dr. Dr. h.c. Artemis Alexiadou
URL:programm.stuts79.de/events/1542.html
SUMMARY:The anatomy of a word: lessons from language mixing
ORGANIZER:stuts79
LOCATION:stuts79 - DOR 24 1.101
END:VEVENT
END:VCALENDAR
