BEGIN:VCALENDAR
PRODID;X-RICAL-TZSOURCE=TZINFO:-//com.denhaven2/NONSGML ri_cal gem//EN
CALSCALE:GREGORIAN
VERSION:2.0
BEGIN:VEVENT
DTEND;VALUE=DATE-TIME:20260514T150000Z
DTSTART;VALUE=DATE-TIME:20260514T140000Z
DTSTAMP;VALUE=DATE-TIME:20260420T122610Z
UID:18c72537-4464-4633-b31d-dc7c231728ef@talks.stuts.de
DESCRIPTION:Prof. Dr. Pia Knöferle
URL:programm.stuts79.de/events/1543.html
SUMMARY:Context effects in language comprehension: When and to what exten
 t does context play a role?
ORGANIZER:stuts79
LOCATION:stuts79 - HDH Halle 199 
END:VEVENT
END:VCALENDAR
