BEGIN:VCALENDAR
PRODID;X-RICAL-TZSOURCE=TZINFO:-//com.denhaven2/NONSGML ri_cal gem//EN
CALSCALE:GREGORIAN
VERSION:2.0
BEGIN:VEVENT
DTEND;VALUE=DATE-TIME:20260516T170000Z
DTSTART;VALUE=DATE-TIME:20260516T160000Z
DTSTAMP;VALUE=DATE-TIME:20260420T123940Z
UID:b4219837-3f8b-4457-a3bf-d4fa3949b322@talks.stuts.de
DESCRIPTION:Dr. Mandana Seyfeddinipur
URL:programm.stuts79.de/events/1544.html
SUMMARY:What Counts as Language? Uncovering Written Bias in Language Docu
 mentation
ORGANIZER:stuts79
LOCATION:stuts79 - DOR 24 1.101
END:VEVENT
END:VCALENDAR
