BEGIN:VCALENDAR
PRODID;X-RICAL-TZSOURCE=TZINFO:-//com.denhaven2/NONSGML ri_cal gem//EN
CALSCALE:GREGORIAN
VERSION:2.0
BEGIN:VEVENT
DTEND;VALUE=DATE-TIME:20260515T150000Z
DTSTART;VALUE=DATE-TIME:20260515T140000Z
DTSTAMP;VALUE=DATE-TIME:20260420T123923Z
UID:9d651443-312d-46f3-a9ce-cba73336d7a6@talks.stuts.de
DESCRIPTION:Dr. Andreas Blümel
URL:programm.stuts79.de/events/1545.html
SUMMARY:TBA
ORGANIZER:stuts79
LOCATION:stuts79 - DOR 24 1.101
END:VEVENT
END:VCALENDAR
