BEGIN:VCALENDAR
PRODID;X-RICAL-TZSOURCE=TZINFO:-//com.denhaven2/NONSGML ri_cal gem//EN
CALSCALE:GREGORIAN
VERSION:2.0
BEGIN:VEVENT
DTEND;VALUE=DATE-TIME:20260514T181500Z
DTSTART;VALUE=DATE-TIME:20260514T171500Z
DTSTAMP;VALUE=DATE-TIME:20260420T125109Z
UID:e06d52fc-614b-4ed3-8b46-e248f9f944f3@talks.stuts.de
URL:programm.stuts79.de/events/1546.html
SUMMARY:KaSuS Kennenlernen
ORGANIZER:stuts79
LOCATION:stuts79 - HDH Halle 199 
END:VEVENT
END:VCALENDAR
