BEGIN:VCALENDAR
PRODID;X-RICAL-TZSOURCE=TZINFO:-//com.denhaven2/NONSGML ri_cal gem//EN
CALSCALE:GREGORIAN
VERSION:2.0
BEGIN:VEVENT
DTEND;VALUE=DATE-TIME:20260515T193000Z
DTSTART;VALUE=DATE-TIME:20260515T160000Z
DTSTAMP;VALUE=DATE-TIME:20260420T130740Z
UID:17cb9f60-1025-4a62-9f02-7b906aaee3ca@talks.stuts.de
URL:programm.stuts79.de/events/1547.html
SUMMARY:KaSuS Arbeitstreffen
ORGANIZER:stuts79
LOCATION:stuts79 - DOR 24 1.501
END:VEVENT
END:VCALENDAR
