BEGIN:VCALENDAR
PRODID;X-RICAL-TZSOURCE=TZINFO:-//com.denhaven2/NONSGML ri_cal gem//EN
CALSCALE:GREGORIAN
VERSION:2.0
BEGIN:VEVENT
DTEND;VALUE=DATE-TIME:20260516T110000Z
DTSTART;VALUE=DATE-TIME:20260516T083000Z
DTSTAMP;VALUE=DATE-TIME:20260420T130948Z
UID:9fc41dcd-cbef-474d-b3d7-dc4b65c688ac@talks.stuts.de
URL:programm.stuts79.de/events/1548.html
SUMMARY:KaSuS Abschlussplenum
ORGANIZER:stuts79
LOCATION:stuts79 - DOR 24 1.101
END:VEVENT
END:VCALENDAR
