BEGIN:VCALENDAR
PRODID;X-RICAL-TZSOURCE=TZINFO:-//com.denhaven2/NONSGML ri_cal gem//EN
CALSCALE:GREGORIAN
VERSION:2.0
BEGIN:VEVENT
DTEND;VALUE=DATE-TIME:20260516T124000Z
DTSTART;VALUE=DATE-TIME:20260516T121000Z
DTSTAMP;VALUE=DATE-TIME:20260420T131547Z
UID:d0aedd42-b97e-4b9a-b1b3-77a2d6721dfd@talks.stuts.de
URL:programm.stuts79.de/events/1549.html
SUMMARY:Mehr als nur Kritik: Die Übersetzungskritik in der Ausbildung von
  Übersetzer:innen
ORGANIZER:stuts79
LOCATION:stuts79 - DOR 24 1.101
END:VEVENT
END:VCALENDAR
