BEGIN:VCALENDAR
PRODID;X-RICAL-TZSOURCE=TZINFO:-//com.denhaven2/NONSGML ri_cal gem//EN
CALSCALE:GREGORIAN
VERSION:2.0
BEGIN:VEVENT
DTEND;VALUE=DATE-TIME:20260516T155000Z
DTSTART;VALUE=DATE-TIME:20260516T152000Z
DTSTAMP;VALUE=DATE-TIME:20260420T132746Z
UID:32a70b2e-94a9-4086-aad9-b66619b0b504@talks.stuts.de
URL:programm.stuts79.de/events/1550.html
SUMMARY:TBA
ORGANIZER:stuts79
LOCATION:stuts79 - DOR 24 1.102
END:VEVENT
END:VCALENDAR
