BEGIN:VCALENDAR
PRODID;X-RICAL-TZSOURCE=TZINFO:-//com.denhaven2/NONSGML ri_cal gem//EN
CALSCALE:GREGORIAN
VERSION:2.0
BEGIN:VEVENT
DTEND;VALUE=DATE-TIME:20260514T110000Z
DTSTART;VALUE=DATE-TIME:20260514T100000Z
DTSTAMP;VALUE=DATE-TIME:20260420T133008Z
UID:e6b07c9f-27f5-4eac-a29a-51991125a1ea@talks.stuts.de
URL:programm.stuts79.de/events/1551.html
SUMMARY:Eröffnung
ORGANIZER:stuts79
LOCATION:stuts79 - HDH Halle 199 
END:VEVENT
END:VCALENDAR
