BEGIN:VCALENDAR
PRODID;X-RICAL-TZSOURCE=TZINFO:-//com.denhaven2/NONSGML ri_cal gem//EN
CALSCALE:GREGORIAN
VERSION:2.0
BEGIN:VEVENT
DTEND;VALUE=DATE-TIME:20260516T180000Z
DTSTART;VALUE=DATE-TIME:20260516T170000Z
DTSTAMP;VALUE=DATE-TIME:20260420T133045Z
UID:5522d1ac-d16b-4564-8bdb-09de3a5187e3@talks.stuts.de
URL:programm.stuts79.de/events/1552.html
SUMMARY:Abschlussplenum
ORGANIZER:stuts79
LOCATION:stuts79 - DOR 24 1.101
END:VEVENT
END:VCALENDAR
